BEGIN:VCALENDAR
VERSION:2.0
PRODID:-//eventon.com NONSGML v1.0//EN
CALSCALE:GREGORIAN
METHOD:PUBLISH
BEGIN:VEVENT
UID:69ebbe2e29e3e
DTSTAMP:20260424T190206Z
DTSTART:20251207T030000Z
DTEND:20251207T012000Z
LOCATION:Abbotsford Centre 33800 King Rd\,  Abbotsford\,  BC
SUMMARY:Abbotsford Canucks - Teddy Bear Toss
DESCRIPTION:Come cheer on the Abbotsford Canucks against Tucson Roadrunners
 !\nhttps://www.thefraservalley.ca/events/abbotsford-canucks-teddy-bear-toss
 -2/
URL:https://www.thefraservalley.ca/events/abbotsford-canucks-teddy-bear-toss-2/
END:VEVENT
END:VCALENDAR