BEGIN:VCALENDAR
VERSION:2.0
PRODID:-//eventon.com NONSGML v1.0//EN
CALSCALE:GREGORIAN
METHOD:PUBLISH
BEGIN:VEVENT
UID:69ea41ed579f2
DTSTAMP:20260423T155941Z
DTSTART:20260131T180000Z
DTEND:20260131T193000Z
LOCATION:Minter Country Garden 10015 Young Rd\,  Chilliwack\,  BC
SUMMARY:Pruning: The Abridged Version
DESCRIPTION:For those with small gardens or short attention spans\,  this s
 ession will cover the highlights of the previous two\,  focussing on the mo
 st popular home-garden plants and most common questions related to pruning!
  &nbsp; &nbsp; This is a FREE session but registration is required and spac
 e does fill quickly. Please[..]\nhttps://www.thefraservalley.ca/events/prun
 ing-the-abridged-version/
URL:https://www.thefraservalley.ca/events/pruning-the-abridged-version/
END:VEVENT
END:VCALENDAR