BEGIN:VCALENDAR
VERSION:2.0
PRODID:-//eventon.com NONSGML v1.0//EN
CALSCALE:GREGORIAN
METHOD:PUBLISH
BEGIN:VEVENT
UID:69ea412257990
DTSTAMP:20260423T155618Z
DTSTART:20260117T230000Z
DTEND:20260118T050000Z
LOCATION:Sasquatch Mountain Resort 20955 Hemlock Valley Rd\,  Harrison\,  BC
SUMMARY:Molly’s Railjam X Redbull
DESCRIPTION:Get ready for one of the loudest\,  most high-energy events on 
 the mountain. This rail jam takes over Molly’s Bar deck\,  transforming i
 t into a true stadium-style battleground for progression\,  style\,  and cr
 eativity. A compact\,  purpose-built rail and jib setup keeps every trick r
 ight in front of the crowd\,  pulling[..]\nhttps://www.thefraservalley.ca/e
 vents/mollys-railjam-x-redbull/
URL:https://www.thefraservalley.ca/events/mollys-railjam-x-redbull/
END:VEVENT
END:VCALENDAR