BEGIN:VCALENDAR
VERSION:2.0
PRODID:-//eventon.com NONSGML v1.0//EN
CALSCALE:GREGORIAN
METHOD:PUBLISH
BEGIN:VEVENT
UID:69ea4107a1bf5
DTSTAMP:20260423T155551Z
DTSTART:20260219
DTEND:20260220
LOCATION:Tradex 1190 Cornell Street\,  Abbotsford\,  BC
SUMMARY:Earlybird RV Show & Sale
DESCRIPTION:Gear up for camping season at the Earlybird RV Show &amp; Sale\
 ,  BC’s largest RV event held annually at the Tradex in Abbotsford\,  BC.
  This four-day show runs from Thursday to Sunday\,  with hours from 10:00 a
 m – 8:00 pm (Thurs-Sat) and 10:00 am – 5:00 pm (Sun). Attendees can[..]
 \nhttps://www.thefraservalley.ca/events/earlybird-rv-show-sale-2026/
URL:https://www.thefraservalley.ca/events/earlybird-rv-show-sale-2026/
END:VEVENT
END:VCALENDAR