BEGIN:VCALENDAR
VERSION:2.0
PRODID:-//eventon.com NONSGML v1.0//EN
CALSCALE:GREGORIAN
METHOD:PUBLISH
BEGIN:VEVENT
UID:69ea4077447a1
DTSTAMP:20260423T155327Z
DTSTART:20260328
DTEND:20260329
LOCATION:Chilliwack Curling Club 45550 Spadina Ave\,  Chilliwack\,  BC
SUMMARY:BC Masters Combined Championships (BCMCC)
DESCRIPTION:Hosted by Pacific Coast Masters Curling Association (PCMCA)\,  
 the 2026 BC Masters Combined Championship (BCMCC 2026) will be held March 2
 8th to April 1st\,  2026 at the Chilliwack Curling Club (CCC). The champion
 ship is a round robin format for the following categories represented by 8 
 zones qualifiers located throughout the[..]\nhttps://www.thefraservalley.ca
 /events/bc-masters-combined-championships-bcmcc/
URL:https://www.thefraservalley.ca/events/bc-masters-combined-championships-bcmcc/
END:VEVENT
END:VCALENDAR