BEGIN:VCALENDAR
VERSION:2.0
PRODID:-//eventon.com NONSGML v1.0//EN
CALSCALE:GREGORIAN
METHOD:PUBLISH
BEGIN:VEVENT
UID:69ea3ffcd1a07
DTSTAMP:20260423T155124Z
DTSTART:20260331T210000Z
DTEND:20260401T065900Z
LOCATION:Great Blue Heron Nature Reserve 5200 Sumas Prairie Rd\,  Chilliwack\,  BC
SUMMARY:A Crones Guide to the Wetlands
DESCRIPTION:Join local crone (and retired forester) Debora Soutar\,  for a 
 detailed look at the amazing productivity of our local wetlands. There’s 
 food to sustain us\,  medicine to heal us\,  and materials to enhance our h
 omes. Each guided walk is about an hour long. We’ll meet at the Rotary In
 terpretive Centre[..]\nhttps://www.thefraservalley.ca/events/a-crones-guide
 -to-the-wetlands/
URL:https://www.thefraservalley.ca/events/a-crones-guide-to-the-wetlands/
END:VEVENT
END:VCALENDAR