BEGIN:VCALENDAR
VERSION:2.0
PRODID:-//eventon.com NONSGML v1.0//EN
CALSCALE:GREGORIAN
METHOD:PUBLISH
BEGIN:VEVENT
UID:69ebbf4dbb02b
DTSTAMP:20260424T190653Z
DTSTART:20260326T013000Z
DTEND:20260326T033000Z
LOCATION:Everything Wine McCallum Junction 125-1828 McCallum Rd.\,  Abbotsford\,  BC
SUMMARY:Herbal Tub Tea's & Tequila Workshop
DESCRIPTION:Join Us for a fun\,  relaxing evening exploring Tub Teas &amp; 
 Tequila!\nhttps://www.thefraservalley.ca/events/herbal-tub-teas-tequila-wor
 kshop/
URL:https://www.thefraservalley.ca/events/herbal-tub-teas-tequila-workshop/
END:VEVENT
END:VCALENDAR